BEGIN:VCALENDAR
VERSION:2.0
PRODID:-//SVP Oberwallis //NONSGML Events //EN
CALSCALE:GREGORIAN
X-WR-CALNAME:SVP Oberwallis
BEGIN:VEVENT
CREATED:20260420T063641Z
UID:21380
DTEND:20260507T210000
DTSTART:20260507T200000
DTSTAMP:20260420T163720Z
LOCATION:Burgersaal\, Ried-Brig (bei Pfarrkirche)
DESCRIPTION:
SUMMARY:Öffentlicher Anlass zum EU-Unterwerfungsvertrag Brigerberg
ORGANIZER:
URL;VALUE=URI:https://www.svpo.ch/termine/oeffentlicher-anlass-zum-eu-unterwerfungsvertrag-brigerberg/
TRANSP:OPAQUE
END:VEVENT
END:VCALENDAR
