BEGIN:VCALENDAR
VERSION:2.0
PRODID:-//SVP Oberwallis //NONSGML Events //EN
CALSCALE:GREGORIAN
X-WR-CALNAME:SVP Oberwallis
BEGIN:VEVENT
CREATED:20260420T063840Z
UID:21383
DTEND:20260430T200000
DTSTART:20260430T193000
DTSTAMP:20260420T164338Z
LOCATION:Burgerhaus\, Dorfplatz 4\, 3942 Raron
DESCRIPTION:
SUMMARY:Öffentlicher Anlass zum EU-Unterwerfungsvertrag Raron
ORGANIZER:
URL;VALUE=URI:https://www.svpo.ch/termine/oeffentlicher-anlass-zum-eu-unterwerfungsvertrag-raron/
TRANSP:OPAQUE
END:VEVENT
END:VCALENDAR
